BEGIN:VCALENDAR
VERSION:2.0
PRODID:-//Förderverein Museum Bodman-Ludwigshafen e.V. - ECPv6.15.20//NONSGML v1.0//EN
CALSCALE:GREGORIAN
METHOD:PUBLISH
X-WR-CALNAME:Förderverein Museum Bodman-Ludwigshafen e.V.
X-ORIGINAL-URL:https://museum-bodman.de
X-WR-CALDESC:Veranstaltungen für Förderverein Museum Bodman-Ludwigshafen e.V.
REFRESH-INTERVAL;VALUE=DURATION:PT1H
X-Robots-Tag:noindex
X-PUBLISHED-TTL:PT1H
BEGIN:VTIMEZONE
TZID:Europe/Berlin
BEGIN:DAYLIGHT
TZOFFSETFROM:+0100
TZOFFSETTO:+0200
TZNAME:CEST
DTSTART:20250330T010000
END:DAYLIGHT
BEGIN:STANDARD
TZOFFSETFROM:+0200
TZOFFSETTO:+0100
TZNAME:CET
DTSTART:20251026T010000
END:STANDARD
BEGIN:DAYLIGHT
TZOFFSETFROM:+0100
TZOFFSETTO:+0200
TZNAME:CEST
DTSTART:20260329T010000
END:DAYLIGHT
BEGIN:STANDARD
TZOFFSETFROM:+0200
TZOFFSETTO:+0100
TZNAME:CET
DTSTART:20261025T010000
END:STANDARD
BEGIN:DAYLIGHT
TZOFFSETFROM:+0100
TZOFFSETTO:+0200
TZNAME:CEST
DTSTART:20270328T010000
END:DAYLIGHT
BEGIN:STANDARD
TZOFFSETFROM:+0200
TZOFFSETTO:+0100
TZNAME:CET
DTSTART:20271031T010000
END:STANDARD
END:VTIMEZONE
BEGIN:VEVENT
DTSTART;VALUE=DATE:20260210
DTEND;VALUE=DATE:20260601
DTSTAMP:20260421T140550
CREATED:20260210T143256Z
LAST-MODIFIED:20260210T143256Z
UID:3064-1770681600-1780271999@museum-bodman.de
SUMMARY:...weitersagen!!!
DESCRIPTION:Hier finden Sie die aktuelle Suche der Gemeinde Bodman-Ludwigshafen für die Verpachtung der der historischen Schlosstorkel. \nBitte leiten Sie oben verlinkte Datei an alle Interessierten weiter!
URL:https://museum-bodman.de/veranstaltung/weitersagen/
LOCATION:Baden-Württemberg
ATTACH;FMTTYPE=image/jpeg:https://museum-bodman.de/wp-content/uploads/2026/02/Betreibersuche_Torkel_02_26.jpg
END:VEVENT
BEGIN:VEVENT
DTSTART;TZID=Europe/Berlin:20260326T190000
DTEND;TZID=Europe/Berlin:20260326T200000
DTSTAMP:20260421T140550
CREATED:20241129T170113Z
LAST-MODIFIED:20260301T113022Z
UID:2837-1774551600-1774555200@museum-bodman.de
SUMMARY:Einladung zur 17. Jahreshauptversammlung des Fördervereins Museum Bodman-Ludwigshafen
DESCRIPTION:Liebe Mitglieder und Interessierte des Fördervereins\, \nhiermit laden wir Sie zur diesjährigen 17. Jahreshauptversammlung (JHV) des Fördervereins Museum Bodman-Ludwigshafen e. V. (FvM) ein.\nDer Termin ist am Donnerstag\, den 26.03.2026 um 19:00 Uhr in der (bis dahin provisorisch beheizten) Schlosstorkel zu Bodman\, Am Torkel 4\, 78351 Bodman-Ludwigshafen.\nDer Vorstand schlägt die folgende Tagesordnung vor: \nTOP1 Begrüßung und Bericht des Vorsitzenden\nTOP2 Bericht der Kassierin zur Mitgliederbewegung und Vorlage der Jahresrechnung\nTOP3 Bericht der Kassenprüfung\nTOP4 Aussprache und Antrag zur Entlastung von Vorstand und Kassierin\nTOP5 Vorgesehene Veranstaltungen in 2026\nTOP6 Wünsche und Anträge\, Verschiedenes\n(Anträge müssen eine Woche vor der JHV schriftlich beim Vorstand eingegangen sein\, vgl. Satzung § 7 Abs. 3) \nIm Anschluss an die JHV (ca. 20:00 Uhr) folgt der Fachvortrag von Prof. Dr. Gunter Schöbel\, Direktor des Pfahlbaumuseums Unteruhldingen zum Thema\n„Kelten und Römer am nördlichen Bodensee“.\nAlle Interessierten sind hierzu herzlich eingeladen! Der Vortrag ist kostenlos\, Spenden für den FvM sind gerne gesehen und herzlich willkommen! \nDer Vorstand des FvM freut sich auf Ihren Besuch!
URL:https://museum-bodman.de/veranstaltung/17-jahreshauptversammlung-des-fvm/
LOCATION:Torkel Bodman\, Am Torkel 4\, Bodman-Ludwigshafen\, Baden-Württemberg\, 78351\, Germany
CATEGORIES:Veranstaltung
ATTACH;FMTTYPE=image/jpeg:https://museum-bodman.de/wp-content/uploads/2026/03/Torkelschweinchen.jpg
END:VEVENT
BEGIN:VEVENT
DTSTART;TZID=Europe/Berlin:20260326T200000
DTEND;TZID=Europe/Berlin:20260326T213000
DTSTAMP:20260421T140550
CREATED:20260220T165403Z
LAST-MODIFIED:20260310T081410Z
UID:3075-1774555200-1774560600@museum-bodman.de
SUMMARY:"Kelten und Römer am nördlichen Bodensee" von und mit Prof. Dr. Gunter Schöbel
DESCRIPTION:Spuren von Siedlungen\, Hortfunden oder Gräbern als archäologische Zeugnisse der Urgeschichte nach dem Ende der Pfahlbauten im 9. Jahrhundert v. Chr. sind am Nordufer des Bodensees\, von Bodman bis Lindau und im anschließenden „Hinterland“ bislang selten. In den maßgebenden Arbeiten zur Kelten- und Römerzeit Baden-Württembergs und Bayern bleiben die Flächen auf den Verbreitungskarten weitgehend leer.\nDie archäologische Forschung erklärte dies oft mit einer offensichtlich geringen Attraktivität des Gebietes zwischen Überlinger See und Donau für die prähistorische landwirtschaftliche Nutzung. Klimatische Gründe\, eine Wildnis\, die schroffe Topographie und eine schwierige Zugänglichkeit fernab der maßgebenden Verkehrsachsen wurden erläuternd herangezogen. Nicht zuletzt stützten dies auch die frühen römischen Berichte zum Raum. Das Gebiet erschien in der Wissenschaft – wie der Schwarzwald\, Oberschwaben oder das Allgäu im randlichen Baden\, Württemberg oder Bayern – lange als prähistorischer „Ungunst- oder Durchgangsraum“ von geringer Bedeutung.\nDass dem nicht so ist\, erklärt uns Prof. Gunter Schöbel in seinem Vortrag mit dem Titel „Kelten und Römer am nördlichen Bodensee“.\n„Uns fehlt 1000 Jahre Geschichte zwischen dem Ende der Pfahlbauten um 800 v. Chr. bis zu den ersten sicheren Römernachweisen am Nordufer des Bodensees“  \nDer Eintritt ist frei\, Spenden für den FvM sind willkommen!
URL:https://museum-bodman.de/veranstaltung/kelten-und-roemer-am-noerdlichen-bodensee-von-und-mit-prof-dr-gunter-schoebel/
LOCATION:Torkel Bodman\, Am Torkel 4\, Bodman-Ludwigshafen\, Baden-Württemberg\, 78351\, Germany
CATEGORIES:Vortrag
ATTACH;FMTTYPE=image/jpeg:https://museum-bodman.de/wp-content/uploads/2026/03/Vortrag_KeltenRoemer.jpg
END:VEVENT
END:VCALENDAR