BEGIN:VCALENDAR
VERSION:2.0
PRODID:-//Förderverein Museum Bodman-Ludwigshafen e.V. - ECPv6.15.20//NONSGML v1.0//EN
CALSCALE:GREGORIAN
METHOD:PUBLISH
X-WR-CALNAME:Förderverein Museum Bodman-Ludwigshafen e.V.
X-ORIGINAL-URL:https://museum-bodman.de
X-WR-CALDESC:Veranstaltungen für Förderverein Museum Bodman-Ludwigshafen e.V.
REFRESH-INTERVAL;VALUE=DURATION:PT1H
X-Robots-Tag:noindex
X-PUBLISHED-TTL:PT1H
BEGIN:VTIMEZONE
TZID:Europe/Berlin
BEGIN:DAYLIGHT
TZOFFSETFROM:+0100
TZOFFSETTO:+0200
TZNAME:CEST
DTSTART:20250330T010000
END:DAYLIGHT
BEGIN:STANDARD
TZOFFSETFROM:+0200
TZOFFSETTO:+0100
TZNAME:CET
DTSTART:20251026T010000
END:STANDARD
BEGIN:DAYLIGHT
TZOFFSETFROM:+0100
TZOFFSETTO:+0200
TZNAME:CEST
DTSTART:20260329T010000
END:DAYLIGHT
BEGIN:STANDARD
TZOFFSETFROM:+0200
TZOFFSETTO:+0100
TZNAME:CET
DTSTART:20261025T010000
END:STANDARD
BEGIN:DAYLIGHT
TZOFFSETFROM:+0100
TZOFFSETTO:+0200
TZNAME:CEST
DTSTART:20270328T010000
END:DAYLIGHT
BEGIN:STANDARD
TZOFFSETFROM:+0200
TZOFFSETTO:+0100
TZNAME:CET
DTSTART:20271031T010000
END:STANDARD
END:VTIMEZONE
BEGIN:VEVENT
DTSTART;TZID=Europe/Berlin:20260807T173000
DTEND;TZID=Europe/Berlin:20260807T190000
DTSTAMP:20260421T200832
CREATED:20250324T145643Z
LAST-MODIFIED:20260301T105845Z
UID:2898-1786123800-1786129200@museum-bodman.de
SUMMARY:Historische Ortsführung Bodman
DESCRIPTION:Erfahren Sie bei einer Führung des Förderverein Museum Bodman-Ludwigshafen Spannendes über die geschichtlichen Hintergründe Bodmans und begeben Sie sich auf eine geschichtliche Zeitreise.\nAn der Hafen Uhr in Bodman drehen Sie die Uhr zurück und beginnen Ihre Zeitreise. Der erste Haltepunkt der Führung ist an einem der Panoramen Bodmans\, wo Sie Wissenswertes über den Bodensee und die Pfahlbaufundstellen erfahren. Ein Zeitsprung führt Sie dann zu der Schächerkapelle\, dem Torhaus und den renaturierten Uferanlagen. Im weiteren Verlauf der Führung wird Ihnen die Torkel und deren Funktion für den Weinbau in Bodman näher gebracht\, bevor es zum Schloss Bodman geht\, ein Wahrzeichen im Ort. Der Königsweingarten sowie die alte Kaiserpfalz und deren Funktion bilden den\nAbschluss der Zeitreise. Sollte noch genügend Zeit vorhanden sein\, kann die Kirche St. Peter und Paul von innen besichtigt werden. \nDer Eintritt ist für Kinder bis 14 Jahren und Vereinsmitglieder kostenlos! \nGruppen auf Anfrage unter: kontakt[at]museum-bodman.de
URL:https://museum-bodman.de/veranstaltung/historische-ortsfuehrung-bodman-19/
LOCATION:an der Uhr im Hafen\, Bodman\, Deutschland
CATEGORIES:Führung
ATTACH;FMTTYPE=image/jpeg:https://museum-bodman.de/wp-content/uploads/2019/12/IMG_9855_1920p.jpg
END:VEVENT
BEGIN:VEVENT
DTSTART;TZID=Europe/Berlin:20260815T173000
DTEND;TZID=Europe/Berlin:20260815T190000
DTSTAMP:20260421T200832
CREATED:20250324T145710Z
LAST-MODIFIED:20260301T105808Z
UID:2900-1786815000-1786820400@museum-bodman.de
SUMMARY:Historische Ortsführung Bodman
DESCRIPTION:Erfahren Sie bei einer Führung des Förderverein Museum Bodman-Ludwigshafen Spannendes über die geschichtlichen Hintergründe Bodmans und begeben Sie sich auf eine geschichtliche Zeitreise.\nAn der Hafen Uhr in Bodman drehen Sie die Uhr zurück und beginnen Ihre Zeitreise. Der erste Haltepunkt der Führung ist an einem der Panoramen Bodmans\, wo Sie Wissenswertes über den Bodensee und die Pfahlbaufundstellen erfahren. Ein Zeitsprung führt Sie dann zu der Schächerkapelle\, dem Torhaus und den renaturierten Uferanlagen. Im weiteren Verlauf der Führung wird Ihnen die Torkel und deren Funktion für den Weinbau in Bodman näher gebracht\, bevor es zum Schloss Bodman geht\, ein Wahrzeichen im Ort. Der Königsweingarten sowie die alte Kaiserpfalz und deren Funktion bilden den\nAbschluss der Zeitreise. Sollte noch genügend Zeit vorhanden sein\, kann die Kirche St. Peter und Paul von innen besichtigt werden. \nDer Eintritt ist für Kinder bis 14 Jahren und Vereinsmitglieder kostenlos! \nGruppen auf Anfrage unter: kontakt[at]museum-bodman.de
URL:https://museum-bodman.de/veranstaltung/historische-ortsfuehrung-bodman-20/
LOCATION:an der Uhr im Hafen\, Bodman\, Deutschland
CATEGORIES:Führung
ATTACH;FMTTYPE=image/jpeg:https://museum-bodman.de/wp-content/uploads/2019/12/IMG_9855_1920p.jpg
END:VEVENT
BEGIN:VEVENT
DTSTART;TZID=Europe/Berlin:20260821T173000
DTEND;TZID=Europe/Berlin:20260821T190000
DTSTAMP:20260421T200832
CREATED:20250324T145734Z
LAST-MODIFIED:20260301T105725Z
UID:2902-1787333400-1787338800@museum-bodman.de
SUMMARY:Historische Ortsführung Bodman
DESCRIPTION:Erfahren Sie bei einer Führung des Förderverein Museum Bodman-Ludwigshafen Spannendes über die geschichtlichen Hintergründe Bodmans und begeben Sie sich auf eine geschichtliche Zeitreise.\nAn der Hafen Uhr in Bodman drehen Sie die Uhr zurück und beginnen Ihre Zeitreise. Der erste Haltepunkt der Führung ist an einem der Panoramen Bodmans\, wo Sie Wissenswertes über den Bodensee und die Pfahlbaufundstellen erfahren. Ein Zeitsprung führt Sie dann zu der Schächerkapelle\, dem Torhaus und den renaturierten Uferanlagen. Im weiteren Verlauf der Führung wird Ihnen die Torkel und deren Funktion für den Weinbau in Bodman näher gebracht\, bevor es zum Schloss Bodman geht\, ein Wahrzeichen im Ort. Der Königsweingarten sowie die alte Kaiserpfalz und deren Funktion bilden den\nAbschluss der Zeitreise. Sollte noch genügend Zeit vorhanden sein\, kann die Kirche St. Peter und Paul von innen besichtigt werden. \nDer Eintritt ist für Kinder bis 14 Jahren und Vereinsmitglieder kostenlos! \nGruppen auf Anfrage unter: kontakt[at]museum-bodman.de
URL:https://museum-bodman.de/veranstaltung/historische-ortsfuehrung-bodman-21/
LOCATION:an der Uhr im Hafen\, Bodman\, Deutschland
CATEGORIES:Führung
ATTACH;FMTTYPE=image/jpeg:https://museum-bodman.de/wp-content/uploads/2019/12/IMG_9855_1920p.jpg
END:VEVENT
BEGIN:VEVENT
DTSTART;TZID=Europe/Berlin:20260828T173000
DTEND;TZID=Europe/Berlin:20260828T190000
DTSTAMP:20260421T200832
CREATED:20250324T145750Z
LAST-MODIFIED:20260301T105426Z
UID:2906-1787938200-1787943600@museum-bodman.de
SUMMARY:Historische Ortsführung Bodman
DESCRIPTION:Erfahren Sie bei einer Führung des Förderverein Museum Bodman-Ludwigshafen Spannendes über die geschichtlichen Hintergründe Bodmans und begeben Sie sich auf eine geschichtliche Zeitreise.\nAn der Hafen Uhr in Bodman drehen Sie die Uhr zurück und beginnen Ihre Zeitreise. Der erste Haltepunkt der Führung ist an einem der Panoramen Bodmans\, wo Sie Wissenswertes über den Bodensee und die Pfahlbaufundstellen erfahren. Ein Zeitsprung führt Sie dann zu der Schächerkapelle\, dem Torhaus und den renaturierten Uferanlagen. Im weiteren Verlauf der Führung wird Ihnen die Torkel und deren Funktion für den Weinbau in Bodman näher gebracht\, bevor es zum Schloss Bodman geht\, ein Wahrzeichen im Ort. Der Königsweingarten sowie die alte Kaiserpfalz und deren Funktion bilden den\nAbschluss der Zeitreise. Sollte noch genügend Zeit vorhanden sein\, kann die Kirche St. Peter und Paul von innen besichtigt werden. \nDer Eintritt ist für Kinder bis 14 Jahren und Vereinsmitglieder kostenlos! \nGruppen auf Anfrage unter: kontakt[at]museum-bodman.de
URL:https://museum-bodman.de/veranstaltung/historische-ortsfuehrung-bodman-22/
LOCATION:an der Uhr im Hafen\, Bodman\, Deutschland
CATEGORIES:Führung
ATTACH;FMTTYPE=image/jpeg:https://museum-bodman.de/wp-content/uploads/2019/12/IMG_9855_1920p.jpg
END:VEVENT
END:VCALENDAR